{
 "currentVersion": 10.5,
 "serviceDescription": "",
 "mapName": "Layers",
 "description": "",
 "copyrightText": "",
 "supportsDynamicLayers": true,
 "layers": [
  {
   "id": 0,
   "name": "1",
   "parentLayerId": -1,
   "defaultVisibility": true,
   "subLayerIds": [
    1,
    2,
    3
   ],
   "minScale": 0,
   "maxScale": 2500000
  },
  {
   "id": 1,
   "name": "provinceLine_Buffer5400",
   "parentLayerId": 0,
   "defaultVisibility": true,
   "subLayerIds": null,
   "minScale": 0,
   "maxScale": 0
  },
  {
   "id": 2,
   "name": "provinceLine_Buffer9000",
   "parentLayerId": 0,
   "defaultVisibility": true,
   "subLayerIds": null,
   "minScale": 0,
   "maxScale": 0
  },
  {
   "id": 3,
   "name": "provinceLine_Buffer12600",
   "parentLayerId": 0,
   "defaultVisibility": true,
   "subLayerIds": null,
   "minScale": 0,
   "maxScale": 0
  },
  {
   "id": 4,
   "name": "2",
   "parentLayerId": -1,
   "defaultVisibility": true,
   "subLayerIds": [
    5,
    6,
    7
   ],
   "minScale": 2500000,
   "maxScale": 1000000
  },
  {
   "id": 5,
   "name": "provinceLine_Buffer1800m",
   "parentLayerId": 4,
   "defaultVisibility": true,
   "subLayerIds": null,
   "minScale": 0,
   "maxScale": 0
  },
  {
   "id": 6,
   "name": "provinceLine_Buffer3600",
   "parentLayerId": 4,
   "defaultVisibility": true,
   "subLayerIds": null,
   "minScale": 0,
   "maxScale": 0
  },
  {
   "id": 7,
   "name": "provinceLine_Buffer5400",
   "parentLayerId": 4,
   "defaultVisibility": true,
   "subLayerIds": null,
   "minScale": 0,
   "maxScale": 0
  },
  {
   "id": 8,
   "name": "3",
   "parentLayerId": -1,
   "defaultVisibility": true,
   "subLayerIds": [
    9,
    10,
    11
   ],
   "minScale": 1000000,
   "maxScale": 0
  },
  {
   "id": 9,
   "name": "provinceLine_Buffer400",
   "parentLayerId": 8,
   "defaultVisibility": true,
   "subLayerIds": null,
   "minScale": 0,
   "maxScale": 0
  },
  {
   "id": 10,
   "name": "provinceLine_Buffer800",
   "parentLayerId": 8,
   "defaultVisibility": true,
   "subLayerIds": null,
   "minScale": 0,
   "maxScale": 0
  },
  {
   "id": 11,
   "name": "provinceLine_Buffer1200",
   "parentLayerId": 8,
   "defaultVisibility": true,
   "subLayerIds": null,
   "minScale": 0,
   "maxScale": 0
  }
 ],
 "tables": [],
 "spatialReference": {
  "wkid": 4490,
  "latestWkid": 4490
 },
 "singleFusedMapCache": true,
 "tileInfo": {
  "rows": 256,
  "cols": 256,
  "dpi": 96,
  "format": "PNG",
  "compressionQuality": 0,
  "origin": {
   "x": -400,
   "y": 399.9999999999998
  },
  "spatialReference": {
   "wkid": 4490,
   "latestWkid": 4490
  },
  "lods": [
   {
    "level": 0,
    "resolution": 0.03807137609328448,
    "scale": 16000000
   },
   {
    "level": 1,
    "resolution": 0.01903568804664224,
    "scale": 8000000
   },
   {
    "level": 2,
    "resolution": 0.00951784402332112,
    "scale": 4000000
   },
   {
    "level": 3,
    "resolution": 0.00475892201166056,
    "scale": 2000000
   },
   {
    "level": 4,
    "resolution": 0.00237946100583028,
    "scale": 1000000
   },
   {
    "level": 5,
    "resolution": 0.00118973050291514,
    "scale": 500000
   },
   {
    "level": 6,
    "resolution": 5.9486525145757E-4,
    "scale": 250000
   },
   {
    "level": 7,
    "resolution": 2.97432625728785E-4,
    "scale": 125000
   },
   {
    "level": 8,
    "resolution": 1.5228550437313792E-4,
    "scale": 64000
   },
   {
    "level": 9,
    "resolution": 7.614275218656896E-5,
    "scale": 32000
   },
   {
    "level": 10,
    "resolution": 3.807137609328448E-5,
    "scale": 16000
   },
   {
    "level": 11,
    "resolution": 1.903568804664224E-5,
    "scale": 8000
   }
  ]
 },
 "initialExtent": {
  "xmin": 95.5920757243775,
  "ymin": 30.483813850432377,
  "xmax": 119.13541470046486,
  "ymax": 43.153967814277586,
  "spatialReference": {
   "cs": "gcs",
   "wkid": 4490
  }
 },
 "fullExtent": {
  "xmin": 92.19167334419086,
  "ymin": 32.48253860312883,
  "xmax": 108.85047580691588,
  "ymax": 42.907729961537086,
  "spatialReference": {
   "cs": "gcs",
   "wkid": 4490
  }
 },
 "minScale": 250000,
 "maxScale": 8000,
 "units": "esriDecimalDegrees",
 "supportedImageFormatTypes": "PNG32,PNG24,PNG,JPG,DIB,TIFF,EMF,PS,PDF,GIF,SVG,SVGZ,BMP",
 "documentInfo": {
  "Title": "",
  "Author": "",
  "Comments": "",
  "Subject": "",
  "Category": "",
  "AntialiasingMode": "None",
  "TextAntialiasingMode": "Force",
  "Keywords": ""
 },
 "capabilities": "Map,Query,Data",
 "supportedQueryFormats": "JSON, AMF, geoJSON",
 "exportTilesAllowed": false,
 "supportsDatumTransformation": true,
 "maxRecordCount": 1000,
 "maxImageHeight": 4096,
 "maxImageWidth": 4096,
 "supportedExtensions": "KmlServer"
}
