View In:
ArcGIS JavaScript
ArcGIS Online map viewer
Google Earth
ArcMap
View Footprint In:
ArcGIS Online map viewer
Service Description: 420000/四川影像
Name: 420000/四川影像
Description:
Single Fused Map Cache: false
Extent:
XMin: 97.350977285324
YMin: 26.049047737916997
XMax: 108.541255072054
YMax: 34.314603300085
Spatial Reference: 4326
(4326)
Initial Extent:
XMin: 97.350977285324
YMin: 26.049047737916997
XMax: 108.541255072054
YMax: 34.314603300085
Spatial Reference: 4326
(4326)
Full Extent:
XMin: 97.350977285324
YMin: 26.049047737916997
XMax: 108.541255072054
YMax: 34.314603300085
Spatial Reference: 4326
(4326)
Pixel Size X: 2.777777779999998E-4
Pixel Size Y: 2.7777777800000003E-4
Band Count: 1
Pixel Type: S16
RasterFunction Infos: {"name":"None","description":"","help":""}
Mensuration Capabilities: Basic
Has Histograms: true
Has Colormap: false
Has Multi Dimensions : false
Rendering Rule:
Min Scale: 0
Max Scale: 0
Copyright Text:
Service Data Type: esriImageServiceDataTypeThematic
Min Values: 109
Max Values: 7845
Mean Values: 2594.0467150623726
Standard Deviation Values: 1600.871917287297
Object ID Field:
Fields:
None
Default Mosaic Method: Center
Allowed Mosaic Methods:
SortField:
SortValue: null
Mosaic Operator: First
Default Compression Quality: 75
Default Resampling Method: Bilinear
Max Record Count: null
Max Image Height: 4100
Max Image Width: 15000
Max Download Image Count: null
Max Mosaic Image Count: null
Allow Raster Function: true
Allow Compute TiePoints: false
Supports Statistics: false
Supports Advanced Queries: false
Use StandardizedQueries: true
Raster Type Infos:
Name: Raster Dataset
Description: Supports all ArcGIS Raster Datasets
Help:
Has Raster Attribute Table: true
Edit Fields Info: null
Ownership Based AccessControl For Rasters: null
Child Resources:
Info
Raster Attribute Table
Histograms
Key Properties
Legend
MultiDimensionalInfo
rasterFunctionInfos
Supported Operations:
Export Image
Identify
Measure
Compute Histograms
Compute Statistics Histograms
Get Samples
Compute Class Statistics