{
 "currentVersion": 10.5,
 "serviceDescription": "",
 "mapName": "Layers",
 "description": "",
 "copyrightText": "",
 "supportsDynamicLayers": true,
 "layers": [
  {
   "id": 0,
   "name": "8",
   "parentLayerId": -1,
   "defaultVisibility": true,
   "subLayerIds": [
    1
   ],
   "minScale": 3466750,
   "maxScale": 1733376
  },
  {
   "id": 2,
   "name": "9",
   "parentLayerId": -1,
   "defaultVisibility": true,
   "subLayerIds": [
    3
   ],
   "minScale": 1733375,
   "maxScale": 866689
  },
  {
   "id": 4,
   "name": "10",
   "parentLayerId": -1,
   "defaultVisibility": true,
   "subLayerIds": [
    5
   ],
   "minScale": 866688,
   "maxScale": 433345
  },
  {
   "id": 6,
   "name": "11",
   "parentLayerId": -1,
   "defaultVisibility": true,
   "subLayerIds": [
    7,
    8,
    9
   ],
   "minScale": 433344,
   "maxScale": 216673
  },
  {
   "id": 10,
   "name": "12",
   "parentLayerId": -1,
   "defaultVisibility": true,
   "subLayerIds": [
    11,
    12,
    13,
    14
   ],
   "minScale": 216672,
   "maxScale": 108337
  },
  {
   "id": 15,
   "name": "13",
   "parentLayerId": -1,
   "defaultVisibility": true,
   "subLayerIds": [
    16,
    17,
    18,
    19,
    20
   ],
   "minScale": 108336,
   "maxScale": 54169
  },
  {
   "id": 21,
   "name": "14",
   "parentLayerId": -1,
   "defaultVisibility": true,
   "subLayerIds": [
    22,
    23,
    24,
    25,
    26
   ],
   "minScale": 54168,
   "maxScale": 27085
  },
  {
   "id": 27,
   "name": "15",
   "parentLayerId": -1,
   "defaultVisibility": true,
   "subLayerIds": [
    28,
    29,
    30,
    31,
    32
   ],
   "minScale": 27084,
   "maxScale": 13543
  },
  {
   "id": 33,
   "name": "16",
   "parentLayerId": -1,
   "defaultVisibility": true,
   "subLayerIds": [
    34,
    167,
    176,
    169,
    186,
    171,
    201,
    173
   ],
   "minScale": 13542,
   "maxScale": 6772
  },
  {
   "id": 34,
   "name": "三明市区县注记",
   "parentLayerId": 33,
   "defaultVisibility": false,
   "subLayerIds": [
    166
   ],
   "minScale": 0,
   "maxScale": 0
  },
  {
   "id": 166,
   "name": "默认",
   "parentLayerId": 34,
   "defaultVisibility": true,
   "subLayerIds": null,
   "minScale": 0,
   "maxScale": 0
  },
  {
   "id": 216,
   "name": "17",
   "parentLayerId": -1,
   "defaultVisibility": true,
   "subLayerIds": [
    175,
    177,
    178,
    179,
    180,
    181,
    182,
    183
   ],
   "minScale": 6771,
   "maxScale": 3387
  },
  {
   "id": 175,
   "name": "三明市区县注记",
   "parentLayerId": 216,
   "defaultVisibility": false,
   "subLayerIds": [
    168
   ],
   "minScale": 0,
   "maxScale": 0
  },
  {
   "id": 168,
   "name": "默认",
   "parentLayerId": 175,
   "defaultVisibility": true,
   "subLayerIds": null,
   "minScale": 0,
   "maxScale": 0
  },
  {
   "id": 184,
   "name": "18",
   "parentLayerId": -1,
   "defaultVisibility": true,
   "subLayerIds": [
    185,
    187,
    188,
    189,
    190,
    191,
    192,
    193,
    194,
    195,
    196,
    197,
    198
   ],
   "minScale": 3386,
   "maxScale": 1694
  },
  {
   "id": 185,
   "name": "三明市区县注记",
   "parentLayerId": 184,
   "defaultVisibility": false,
   "subLayerIds": [
    170
   ],
   "minScale": 0,
   "maxScale": 0
  },
  {
   "id": 170,
   "name": "默认",
   "parentLayerId": 185,
   "defaultVisibility": true,
   "subLayerIds": null,
   "minScale": 0,
   "maxScale": 0
  },
  {
   "id": 199,
   "name": "19",
   "parentLayerId": -1,
   "defaultVisibility": true,
   "subLayerIds": [
    200,
    202,
    203,
    204,
    205,
    206,
    207,
    208,
    209,
    210,
    211,
    212,
    213
   ],
   "minScale": 1693,
   "maxScale": 847
  },
  {
   "id": 200,
   "name": "三明市区县注记",
   "parentLayerId": 199,
   "defaultVisibility": false,
   "subLayerIds": [
    172
   ],
   "minScale": 0,
   "maxScale": 0
  },
  {
   "id": 172,
   "name": "默认",
   "parentLayerId": 200,
   "defaultVisibility": true,
   "subLayerIds": null,
   "minScale": 0,
   "maxScale": 0
  },
  {
   "id": 214,
   "name": "20",
   "parentLayerId": -1,
   "defaultVisibility": true,
   "subLayerIds": [
    215,
    217,
    218,
    219,
    220,
    221,
    222,
    223,
    224,
    225,
    226,
    227,
    228
   ],
   "minScale": 846,
   "maxScale": 0
  },
  {
   "id": 215,
   "name": "三明市区县注记",
   "parentLayerId": 214,
   "defaultVisibility": true,
   "subLayerIds": [
    174
   ],
   "minScale": 0,
   "maxScale": 0
  },
  {
   "id": 174,
   "name": "默认",
   "parentLayerId": 215,
   "defaultVisibility": true,
   "subLayerIds": null,
   "minScale": 0,
   "maxScale": 0
  },
  {
   "id": 229,
   "name": "三明市",
   "parentLayerId": -1,
   "defaultVisibility": true,
   "subLayerIds": [
    230,
    231
   ],
   "minScale": 0,
   "maxScale": 0
  }
 ],
 "tables": [],
 "spatialReference": {
  "wkid": 102100,
  "latestWkid": 3857
 },
 "singleFusedMapCache": true,
 "tileInfo": {
  "rows": 256,
  "cols": 256,
  "dpi": 96,
  "format": "MIXED",
  "compressionQuality": 75,
  "origin": {
   "x": -2.0037508342787E7,
   "y": 2.0037508342787E7
  },
  "spatialReference": {
   "wkid": 102100,
   "latestWkid": 3857
  },
  "lods": [
   {
    "level": 0,
    "resolution": 156543.03392800014,
    "scale": 5.91657527591555E8
   },
   {
    "level": 1,
    "resolution": 78271.51696399994,
    "scale": 2.95828763795777E8
   },
   {
    "level": 2,
    "resolution": 39135.75848200009,
    "scale": 1.47914381897889E8
   },
   {
    "level": 3,
    "resolution": 19567.87924099992,
    "scale": 7.3957190948944E7
   },
   {
    "level": 4,
    "resolution": 9783.93962049996,
    "scale": 3.6978595474472E7
   },
   {
    "level": 5,
    "resolution": 4891.96981024998,
    "scale": 1.8489297737236E7
   },
   {
    "level": 6,
    "resolution": 2445.98490512499,
    "scale": 9244648.868618
   },
   {
    "level": 7,
    "resolution": 1222.992452562495,
    "scale": 4622324.434309
   },
   {
    "level": 8,
    "resolution": 611.4962262813797,
    "scale": 2311162.217155
   },
   {
    "level": 9,
    "resolution": 305.74811314055756,
    "scale": 1155581.108577
   },
   {
    "level": 10,
    "resolution": 238.12547625095252,
    "scale": 900000
   },
   {
    "level": 11,
    "resolution": 152.87405657041106,
    "scale": 577790.554289
   },
   {
    "level": 12,
    "resolution": 76.43702828507324,
    "scale": 288895.277144
   },
   {
    "level": 13,
    "resolution": 38.21851414253662,
    "scale": 144447.638572
   },
   {
    "level": 14,
    "resolution": 19.10925707126831,
    "scale": 72223.819286
   },
   {
    "level": 15,
    "resolution": 9.554628535634155,
    "scale": 36111.909643
   },
   {
    "level": 16,
    "resolution": 4.77731426794937,
    "scale": 18055.954822
   },
   {
    "level": 17,
    "resolution": 2.388657133974685,
    "scale": 9027.977411
   },
   {
    "level": 18,
    "resolution": 1.1943285668550503,
    "scale": 4513.988705
   },
   {
    "level": 19,
    "resolution": 0.5971642835598172,
    "scale": 2256.994353
   },
   {
    "level": 20,
    "resolution": 0.29858214164761665,
    "scale": 1128.497176
   }
  ]
 },
 "initialExtent": {
  "xmin": 1.2571849339175042E7,
  "ymin": 2937142.805933184,
  "xmax": 1.3585510651257228E7,
  "ymax": 3423009.6635492193,
  "spatialReference": {
   "wkid": 102100,
   "latestWkid": 3857
  }
 },
 "fullExtent": {
  "xmin": 1.2571849339175042E7,
  "ymin": 2713708.792572003,
  "xmax": 1.3585510651257226E7,
  "ymax": 3396522.31529403,
  "spatialReference": {
   "wkid": 102100,
   "latestWkid": 3857
  }
 },
 "minScale": 5.91657527591555E8,
 "maxScale": 4513.988705,
 "units": "esriMeters",
 "supportedImageFormatTypes": "PNG32,PNG24,PNG,JPG,DIB,TIFF,EMF,PS,PDF,GIF,SVG,SVGZ,BMP",
 "documentInfo": {
  "Title": "",
  "Author": "",
  "Comments": "",
  "Subject": "",
  "Category": "",
  "AntialiasingMode": "None",
  "TextAntialiasingMode": "Force",
  "Keywords": ""
 },
 "capabilities": "Map,Query,Data",
 "supportedQueryFormats": "JSON, AMF, geoJSON",
 "exportTilesAllowed": false,
 "supportsDatumTransformation": true,
 "maxRecordCount": 1000,
 "maxImageHeight": 4096,
 "maxImageWidth": 4096,
 "supportedExtensions": "KmlServer"
}
